BEGIN:VCALENDAR
VERSION:2.0
PRODID:-//Mallard Golf Club - ECPv6.15.18//NONSGML v1.0//EN
CALSCALE:GREGORIAN
METHOD:PUBLISH
X-ORIGINAL-URL:https://www.mallardgolfclub.com
X-WR-CALDESC:Events for Mallard Golf Club
REFRESH-INTERVAL;VALUE=DURATION:PT1H
X-Robots-Tag:noindex
X-PUBLISHED-TTL:PT1H
BEGIN:VTIMEZONE
TZID:UTC
BEGIN:STANDARD
TZOFFSETFROM:+0000
TZOFFSETTO:+0000
TZNAME:UTC
DTSTART:20250101T000000
END:STANDARD
END:VTIMEZONE
BEGIN:VEVENT
DTSTART;VALUE=DATE:20260422
DTEND;VALUE=DATE:20260423
DTSTAMP:20260421T193658
CREATED:20251104T163132Z
LAST-MODIFIED:20251104T163132Z
UID:10000040-1776816000-1776902399@www.mallardgolfclub.com
SUMMARY:Night Range
DESCRIPTION:
URL:https://www.mallardgolfclub.com/event/night-range/2026-04-22/
END:VEVENT
BEGIN:VEVENT
DTSTART;VALUE=DATE:20260424
DTEND;VALUE=DATE:20260425
DTSTAMP:20260421T193658
CREATED:20251104T163132Z
LAST-MODIFIED:20251104T163132Z
UID:10000041-1776988800-1777075199@www.mallardgolfclub.com
SUMMARY:Night Range
DESCRIPTION:
URL:https://www.mallardgolfclub.com/event/night-range/2026-04-24/
END:VEVENT
BEGIN:VEVENT
DTSTART;VALUE=DATE:20260425
DTEND;VALUE=DATE:20260426
DTSTAMP:20260421T193658
CREATED:20251104T163132Z
LAST-MODIFIED:20251104T163132Z
UID:10000042-1777075200-1777161599@www.mallardgolfclub.com
SUMMARY:Night Range
DESCRIPTION:
URL:https://www.mallardgolfclub.com/event/night-range/2026-04-25/
END:VEVENT
BEGIN:VEVENT
DTSTART;VALUE=DATE:20260427
DTEND;VALUE=DATE:20260428
DTSTAMP:20260421T193658
CREATED:20251104T163234Z
LAST-MODIFIED:20251104T163234Z
UID:10000421-1777248000-1777334399@www.mallardgolfclub.com
SUMMARY:Mallard Mondays - 1/2 off Burgers
DESCRIPTION:
URL:https://www.mallardgolfclub.com/event/mallard-mondays-1-2-off-burgers/2026-04-27/
END:VEVENT
END:VCALENDAR