BEGIN:VCALENDAR
VERSION:2.0
PRODID:-//Mallard Golf Club - ECPv6.15.18//NONSGML v1.0//EN
CALSCALE:GREGORIAN
METHOD:PUBLISH
X-ORIGINAL-URL:https://www.mallardgolfclub.com
X-WR-CALDESC:Events for Mallard Golf Club
REFRESH-INTERVAL;VALUE=DURATION:PT1H
X-Robots-Tag:noindex
X-PUBLISHED-TTL:PT1H
BEGIN:VTIMEZONE
TZID:UTC
BEGIN:STANDARD
TZOFFSETFROM:+0000
TZOFFSETTO:+0000
TZNAME:UTC
DTSTART:20250101T000000
END:STANDARD
END:VTIMEZONE
BEGIN:VEVENT
DTSTART;VALUE=DATE:20260601
DTEND;VALUE=DATE:20260602
DTSTAMP:20260424T144733
CREATED:20251104T163234Z
LAST-MODIFIED:20251104T163234Z
UID:10000426-1780272000-1780358399@www.mallardgolfclub.com
SUMMARY:Mallard Mondays - 1/2 off Burgers
DESCRIPTION:
URL:https://www.mallardgolfclub.com/event/mallard-mondays-1-2-off-burgers/2026-06-01/
END:VEVENT
BEGIN:VEVENT
DTSTART;VALUE=DATE:20260603
DTEND;VALUE=DATE:20260604
DTSTAMP:20260424T144733
CREATED:20251104T163132Z
LAST-MODIFIED:20251104T163132Z
UID:10000049-1780444800-1780531199@www.mallardgolfclub.com
SUMMARY:Night Range
DESCRIPTION:
URL:https://www.mallardgolfclub.com/event/night-range/2026-06-03/
END:VEVENT
BEGIN:VEVENT
DTSTART;VALUE=DATE:20260605
DTEND;VALUE=DATE:20260606
DTSTAMP:20260424T144733
CREATED:20251104T163132Z
LAST-MODIFIED:20251104T163132Z
UID:10000050-1780617600-1780703999@www.mallardgolfclub.com
SUMMARY:Night Range
DESCRIPTION:
URL:https://www.mallardgolfclub.com/event/night-range/2026-06-05/
END:VEVENT
BEGIN:VEVENT
DTSTART;VALUE=DATE:20260606
DTEND;VALUE=DATE:20260607
DTSTAMP:20260424T144733
CREATED:20251104T163132Z
LAST-MODIFIED:20251104T163132Z
UID:10000051-1780704000-1780790399@www.mallardgolfclub.com
SUMMARY:Night Range
DESCRIPTION:
URL:https://www.mallardgolfclub.com/event/night-range/2026-06-06/
END:VEVENT
BEGIN:VEVENT
DTSTART;VALUE=DATE:20260608
DTEND;VALUE=DATE:20260609
DTSTAMP:20260424T144733
CREATED:20251104T163234Z
LAST-MODIFIED:20251104T163234Z
UID:10000427-1780876800-1780963199@www.mallardgolfclub.com
SUMMARY:Mallard Mondays - 1/2 off Burgers
DESCRIPTION:
URL:https://www.mallardgolfclub.com/event/mallard-mondays-1-2-off-burgers/2026-06-08/
END:VEVENT
BEGIN:VEVENT
DTSTART;VALUE=DATE:20260615
DTEND;VALUE=DATE:20260616
DTSTAMP:20260424T144733
CREATED:20251104T163234Z
LAST-MODIFIED:20251104T163234Z
UID:10000428-1781481600-1781567999@www.mallardgolfclub.com
SUMMARY:Mallard Mondays - 1/2 off Burgers
DESCRIPTION:
URL:https://www.mallardgolfclub.com/event/mallard-mondays-1-2-off-burgers/2026-06-15/
END:VEVENT
BEGIN:VEVENT
DTSTART;VALUE=DATE:20260617
DTEND;VALUE=DATE:20260618
DTSTAMP:20260424T144733
CREATED:20251104T163132Z
LAST-MODIFIED:20251104T163132Z
UID:10000052-1781654400-1781740799@www.mallardgolfclub.com
SUMMARY:Night Range
DESCRIPTION:
URL:https://www.mallardgolfclub.com/event/night-range/2026-06-17/
END:VEVENT
BEGIN:VEVENT
DTSTART;VALUE=DATE:20260619
DTEND;VALUE=DATE:20260620
DTSTAMP:20260424T144733
CREATED:20251104T163132Z
LAST-MODIFIED:20251104T163132Z
UID:10000053-1781827200-1781913599@www.mallardgolfclub.com
SUMMARY:Night Range
DESCRIPTION:
URL:https://www.mallardgolfclub.com/event/night-range/2026-06-19/
END:VEVENT
BEGIN:VEVENT
DTSTART;VALUE=DATE:20260620
DTEND;VALUE=DATE:20260621
DTSTAMP:20260424T144733
CREATED:20251104T163132Z
LAST-MODIFIED:20251104T163132Z
UID:10000054-1781913600-1781999999@www.mallardgolfclub.com
SUMMARY:Night Range
DESCRIPTION:
URL:https://www.mallardgolfclub.com/event/night-range/2026-06-20/
END:VEVENT
BEGIN:VEVENT
DTSTART;VALUE=DATE:20260622
DTEND;VALUE=DATE:20260623
DTSTAMP:20260424T144733
CREATED:20251104T163234Z
LAST-MODIFIED:20251104T163234Z
UID:10000429-1782086400-1782172799@www.mallardgolfclub.com
SUMMARY:Mallard Mondays - 1/2 off Burgers
DESCRIPTION:
URL:https://www.mallardgolfclub.com/event/mallard-mondays-1-2-off-burgers/2026-06-22/
END:VEVENT
BEGIN:VEVENT
DTSTART;VALUE=DATE:20260629
DTEND;VALUE=DATE:20260630
DTSTAMP:20260424T144733
CREATED:20251104T163234Z
LAST-MODIFIED:20251104T163234Z
UID:10000430-1782691200-1782777599@www.mallardgolfclub.com
SUMMARY:Mallard Mondays - 1/2 off Burgers
DESCRIPTION:
URL:https://www.mallardgolfclub.com/event/mallard-mondays-1-2-off-burgers/2026-06-29/
END:VEVENT
END:VCALENDAR