BEGIN:VCALENDAR
VERSION:2.0
PRODID:-//Mallard Golf Club - ECPv6.15.18//NONSGML v1.0//EN
CALSCALE:GREGORIAN
METHOD:PUBLISH
X-ORIGINAL-URL:https://www.mallardgolfclub.com
X-WR-CALDESC:Events for Mallard Golf Club
REFRESH-INTERVAL;VALUE=DURATION:PT1H
X-Robots-Tag:noindex
X-PUBLISHED-TTL:PT1H
BEGIN:VTIMEZONE
TZID:UTC
BEGIN:STANDARD
TZOFFSETFROM:+0000
TZOFFSETTO:+0000
TZNAME:UTC
DTSTART:20250101T000000
END:STANDARD
END:VTIMEZONE
BEGIN:VEVENT
DTSTART;VALUE=DATE:20260504
DTEND;VALUE=DATE:20260505
DTSTAMP:20260422T063119
CREATED:20251104T163234Z
LAST-MODIFIED:20251104T163234Z
UID:10000422-1777852800-1777939199@www.mallardgolfclub.com
SUMMARY:Mallard Mondays - 1/2 off Burgers
DESCRIPTION:
URL:https://www.mallardgolfclub.com/event/mallard-mondays-1-2-off-burgers/2026-05-04/
END:VEVENT
BEGIN:VEVENT
DTSTART;VALUE=DATE:20260506
DTEND;VALUE=DATE:20260507
DTSTAMP:20260422T063119
CREATED:20251104T163132Z
LAST-MODIFIED:20251104T163132Z
UID:10000043-1778025600-1778111999@www.mallardgolfclub.com
SUMMARY:Night Range
DESCRIPTION:
URL:https://www.mallardgolfclub.com/event/night-range/2026-05-06/
END:VEVENT
BEGIN:VEVENT
DTSTART;VALUE=DATE:20260508
DTEND;VALUE=DATE:20260509
DTSTAMP:20260422T063119
CREATED:20251104T163132Z
LAST-MODIFIED:20251104T163132Z
UID:10000044-1778198400-1778284799@www.mallardgolfclub.com
SUMMARY:Night Range
DESCRIPTION:
URL:https://www.mallardgolfclub.com/event/night-range/2026-05-08/
END:VEVENT
BEGIN:VEVENT
DTSTART;VALUE=DATE:20260509
DTEND;VALUE=DATE:20260510
DTSTAMP:20260422T063119
CREATED:20251104T163132Z
LAST-MODIFIED:20251104T163132Z
UID:10000045-1778284800-1778371199@www.mallardgolfclub.com
SUMMARY:Night Range
DESCRIPTION:
URL:https://www.mallardgolfclub.com/event/night-range/2026-05-09/
END:VEVENT
BEGIN:VEVENT
DTSTART;VALUE=DATE:20260511
DTEND;VALUE=DATE:20260512
DTSTAMP:20260422T063119
CREATED:20251104T163234Z
LAST-MODIFIED:20251104T163234Z
UID:10000423-1778457600-1778543999@www.mallardgolfclub.com
SUMMARY:Mallard Mondays - 1/2 off Burgers
DESCRIPTION:
URL:https://www.mallardgolfclub.com/event/mallard-mondays-1-2-off-burgers/2026-05-11/
END:VEVENT
BEGIN:VEVENT
DTSTART;VALUE=DATE:20260518
DTEND;VALUE=DATE:20260519
DTSTAMP:20260422T063119
CREATED:20251104T163234Z
LAST-MODIFIED:20251104T163234Z
UID:10000424-1779062400-1779148799@www.mallardgolfclub.com
SUMMARY:Mallard Mondays - 1/2 off Burgers
DESCRIPTION:
URL:https://www.mallardgolfclub.com/event/mallard-mondays-1-2-off-burgers/2026-05-18/
END:VEVENT
BEGIN:VEVENT
DTSTART;VALUE=DATE:20260520
DTEND;VALUE=DATE:20260521
DTSTAMP:20260422T063119
CREATED:20251104T163132Z
LAST-MODIFIED:20251104T163132Z
UID:10000046-1779235200-1779321599@www.mallardgolfclub.com
SUMMARY:Night Range
DESCRIPTION:
URL:https://www.mallardgolfclub.com/event/night-range/2026-05-20/
END:VEVENT
BEGIN:VEVENT
DTSTART;VALUE=DATE:20260522
DTEND;VALUE=DATE:20260523
DTSTAMP:20260422T063119
CREATED:20251104T163132Z
LAST-MODIFIED:20251104T163132Z
UID:10000047-1779408000-1779494399@www.mallardgolfclub.com
SUMMARY:Night Range
DESCRIPTION:
URL:https://www.mallardgolfclub.com/event/night-range/2026-05-22/
END:VEVENT
BEGIN:VEVENT
DTSTART;VALUE=DATE:20260523
DTEND;VALUE=DATE:20260524
DTSTAMP:20260422T063119
CREATED:20251104T163132Z
LAST-MODIFIED:20251104T163132Z
UID:10000048-1779494400-1779580799@www.mallardgolfclub.com
SUMMARY:Night Range
DESCRIPTION:
URL:https://www.mallardgolfclub.com/event/night-range/2026-05-23/
END:VEVENT
BEGIN:VEVENT
DTSTART;VALUE=DATE:20260525
DTEND;VALUE=DATE:20260526
DTSTAMP:20260422T063119
CREATED:20251104T163234Z
LAST-MODIFIED:20251104T163234Z
UID:10000425-1779667200-1779753599@www.mallardgolfclub.com
SUMMARY:Mallard Mondays - 1/2 off Burgers
DESCRIPTION:
URL:https://www.mallardgolfclub.com/event/mallard-mondays-1-2-off-burgers/2026-05-25/
END:VEVENT
END:VCALENDAR